BEGIN:VCALENDAR
VERSION:2.0
PRODID:-//Vughtse IJsclub - ECPv6.11.0.1//NONSGML v1.0//EN
CALSCALE:GREGORIAN
METHOD:PUBLISH
X-WR-CALNAME:Vughtse IJsclub
X-ORIGINAL-URL:https://www.vughtseijsclub.nl
X-WR-CALDESC:Evenementen voor Vughtse IJsclub
REFRESH-INTERVAL;VALUE=DURATION:PT1H
X-Robots-Tag:noindex
X-PUBLISHED-TTL:PT1H
BEGIN:VTIMEZONE
TZID:Europe/Amsterdam
BEGIN:DAYLIGHT
TZOFFSETFROM:+0100
TZOFFSETTO:+0200
TZNAME:CEST
DTSTART:20210328T010000
END:DAYLIGHT
BEGIN:STANDARD
TZOFFSETFROM:+0200
TZOFFSETTO:+0100
TZNAME:CET
DTSTART:20211031T010000
END:STANDARD
BEGIN:DAYLIGHT
TZOFFSETFROM:+0100
TZOFFSETTO:+0200
TZNAME:CEST
DTSTART:20220327T010000
END:DAYLIGHT
BEGIN:STANDARD
TZOFFSETFROM:+0200
TZOFFSETTO:+0100
TZNAME:CET
DTSTART:20221030T010000
END:STANDARD
BEGIN:DAYLIGHT
TZOFFSETFROM:+0100
TZOFFSETTO:+0200
TZNAME:CEST
DTSTART:20230326T010000
END:DAYLIGHT
BEGIN:STANDARD
TZOFFSETFROM:+0200
TZOFFSETTO:+0100
TZNAME:CET
DTSTART:20231029T010000
END:STANDARD
END:VTIMEZONE
BEGIN:VEVENT
DTSTART;TZID=Europe/Amsterdam:20230305T090000
DTEND;TZID=Europe/Amsterdam:20230305T100000
DTSTAMP:20260425T192418
CREATED:20230116T111219Z
LAST-MODIFIED:20230125T143110Z
UID:6553-1678006800-1678010400@www.vughtseijsclub.nl
SUMMARY:Bossche Baan Kampioenschap
DESCRIPTION:Voor de jeugd wordt er jaarlijks een Bossche baan Kampioenschap (BBK) -over 3 wedstrijden- georganiseerd.\nDe 2e wedstrijd vond plaats op zondag 15 januari 2023 tijdens het jeugduur (09.00 – 10.00 uur) van het Sportiom in Den Bosch.\nOp zondag 5 maart vindt dan de 3e BBK-wedstrijd plaats.\nTot slot volgt op zondag 12 maart de prijsuitreiking van het BBK.\nKijk hier voor de tussenstanden:\nStand bij de meisjes na 2 wedstrijden.\nStand bij de jongens na 2  wedstrijden.
URL:https://www.vughtseijsclub.nl/evenement/bossche-baan-kampioenschap/
LOCATION:Sportiom Den Bosch
CATEGORIES:Club,Jeugd,Kampioenschap,Schaatsen
END:VEVENT
BEGIN:VEVENT
DTSTART;TZID=Europe/Amsterdam:20221227T173000
DTEND;TZID=Europe/Amsterdam:20221228T020000
DTSTAMP:20260425T192418
CREATED:20221222T152046Z
LAST-MODIFIED:20221222T152149Z
UID:6438-1672162200-1672192800@www.vughtseijsclub.nl
SUMMARY:Schaatsnacht van Eindhoven
DESCRIPTION:De Eindhovense ijsclub IJCE organiseert op de 400-m. baan van Eindhoven op dinsdag 27 december de toertocht “Schaatsnacht van Eindhoven” voor jong & oud\, verenigingen en teams; kortom\, iedereen is welkom. \n17.30 uur: start 150 en 200 km. en start jeugdtochten met of zonder rondenregistratie.\n18.45 uur: start 25\, 50\, 75\, 100 en 150 km.\n21.30 uur: start 25\, 50\, 75 en 100 km.\n02.00 uur einde van de Schaatsnacht van Eindhoven. \nMeer info en inschrijven via Schaatsnacht van Eindhoven.
URL:https://www.vughtseijsclub.nl/evenement/schaatsnacht-van-eindhoven/
LOCATION:IJsbaan Eindhoven
CATEGORIES:Club,Jeugd,Ontspanning,Open,Schaatsen
END:VEVENT
BEGIN:VEVENT
DTSTART;TZID=Europe/Amsterdam:20220910T160000
DTEND;TZID=Europe/Amsterdam:20220910T210000
DTSTAMP:20260425T192418
CREATED:20220715T092501Z
LAST-MODIFIED:20220909T110157Z
UID:5531-1662825600-1662843600@www.vughtseijsclub.nl
SUMMARY:80 jaar VIJC: afsluitende ledendag
DESCRIPTION:We sluiten ons jubileumjaar op 10 september feestelijk af.\nLet op\, gewijzigde informatie! \nVoor de jeugd is er het ochtend-programma dat er als volgt uitziet:\n=  verzamelen bij de IJM (Boslaan 49\, Vught) tussen 10:30 – 10:45 uur.\n=  Klimmen/Adventure vanaf 11:00 uur. (aanvullende kosten € 5\,=\, ter plaatse te voldoen)\n=  Aansluitende lunch voor de jeugdleden in het clubhuis tot 13:30 uur.\n   Rond die tijd kunnen de kinderen weer worden opgehaald want het aansluitende middagprogramma tot 16 uur moest helaas worden afgelast.\nWilt u uw kind voor het klimbos en de lunch aanmelden\, dan graag via dit invulformulier en voor elk kind een apart formulier invullen. \nVoor alle leden (volwassenen en kinderen) die zich hebben aangemeld\, start het middag-programma om 16 uur met een inloop in clubhuis De Bindplaats. We staan dan een moment stil bij ons 80-jarig bestaan om vervolgens van de BBQ te genieten. We nodigen ook graag de ouders van de jeugdleden uit om ook vanaf 16:00 uur aan te sluiten en deel te nemen aan de BBQ om trainers\, andere leden en ouders (nog) beter te leren kennen.\nLet op: het middagprogramma tussen 13.30 en 16.00 uur is vanwege de verwachte weersomstandigheden afgelast. \n\nHeb je nog vragen\, dan kun je contact opnemen met Marc Peters\n 
URL:https://www.vughtseijsclub.nl/evenement/80-jaar-vijc-afsluitende-ledendag/
LOCATION:Clubgebouw de Bindplaats\, Boslaan 43\, Vught\, 5263 NX\, Nederland
CATEGORIES:Club,Jeugd,Ontspanning
END:VEVENT
BEGIN:VEVENT
DTSTART;VALUE=DATE:20211016
DTEND;VALUE=DATE:20211017
DTSTAMP:20260425T192418
CREATED:20210716T155409Z
LAST-MODIFIED:20211010T130557Z
UID:3376-1634342400-1634428799@www.vughtseijsclub.nl
SUMMARY:Viering 80-jarig bestaan VIJC
DESCRIPTION:In oktober 2021 bestaat de Vughtse IJsclub (VIJC) 80 jaar! \nNa anderhalf jaar op 1\,5m of verder geleefd te hebben\, zonder koffie en borrels en al helemaal geen feestje\, willen we weer met zijn allen 80 jaar VIJC vieren. Hoog tijd om weer echt met elkaar bij te praten\, nieuwe leden te leren kennen\, jonge leden wegwijs te maken en gewoon plezier te maken. Oftewel nieuwe herinneringen met elkaar te maken en te delen.\nEr staan twee momenten gepland. \nzaterdag 16 oktober 2021\nAllereerst\, op onze oprichtingsdatum en tevens het begin van het nieuwe schaatsseizoen (16 oktober). \n\nIn de ochtend gaan we van 10:00 – 11:30 samen schaatsen in Eindhoven. Je koopt zelf een kaartje aan de kassa. Je gaat je eerste rondjes rijden\, krijgt de eerste aanwijzingen en ontdekt of je in de zomer actief genoeg bent geweest. Na afloop van het schaatsen staat om 12:30 op het clubhuis soep met pannenkoeken klaar voor de schaatsers.\nOm 13:30 start voor iedereen die zich aangemeld heeft de jubileum activiteiten. Dit begint met een actieve middag waarin we elkaars kennis en vaardigheden testen. Vervolgens staan we een moment stil bij ons 80-jarig bestaan en sluiten we af met een BBQ. We willen ook graag de ouders van de jeugdleden hartelijk uitnodigen om vanaf 16:00 aan te sluiten en deel te nemen aan de BBQ om trainers\, andere leden en ouders beter te leren kennen. Voor de BBQ vragen we een bijdrage.\n\nDe aanmelding voor de ledendag is gesloten. Heb je vragen stuur een mail naar ledendag@vijc.nl. \n11-12-13 maart 2022 \nNet zoals we dat deden bij het 75-jarig bestaan willen we een kamp organiseren. Op een geschikte locatie hopen we met z’n allen het jubileum te kunnen vieren met leuke en gezellige activiteiten. En ja\, dan ook samen te schaatsen. Een weekend lang samen met je schaatsvrienden optrekken en plezier maken\, is op zichzelf al een feest. Het weekend staat gepland voor 11-13 maart 2022 en is voor alle leeftijden. De kosten voor het kamp zijn 60\,- per persoon. \nDe organisatoren gaan een accommodatie reserveren en het programma samenstellen. Om een geschikte accommodatie te kunnen boeken is het minimum gesteld op 60 deelnemers. Inschrijven voor het jubileum kamp doe je voor 16 oktober 2021. \nVia Inschrijven Jubileumkamp  kun je je aanmelden voor het Jubileumkamp. Bij niet doorgaan van het kamp wordt het gehele bedrag weer teruggestort.
URL:https://www.vughtseijsclub.nl/evenement/viering-80-jarig-bestaan-vijc/
LOCATION:Clubgebouw de Bindplaats\, Boslaan 43\, Vught\, 5263 NX\, Nederland
CATEGORIES:Club,Jeugd,Ontspanning,Schaatsen
END:VEVENT
END:VCALENDAR