BEGIN:VCALENDAR
VERSION:2.0
PRODID:-//Vughtse IJsclub - ECPv6.11.0.1//NONSGML v1.0//EN
CALSCALE:GREGORIAN
METHOD:PUBLISH
X-ORIGINAL-URL:https://www.vughtseijsclub.nl
X-WR-CALDESC:Evenementen voor Vughtse IJsclub
REFRESH-INTERVAL;VALUE=DURATION:PT1H
X-Robots-Tag:noindex
X-PUBLISHED-TTL:PT1H
BEGIN:VTIMEZONE
TZID:Europe/Amsterdam
BEGIN:DAYLIGHT
TZOFFSETFROM:+0100
TZOFFSETTO:+0200
TZNAME:CEST
DTSTART:20260329T010000
END:DAYLIGHT
BEGIN:STANDARD
TZOFFSETFROM:+0200
TZOFFSETTO:+0100
TZNAME:CET
DTSTART:20261025T010000
END:STANDARD
END:VTIMEZONE
BEGIN:VEVENT
DTSTART;VALUE=DATE:20260512
DTEND;VALUE=DATE:20260527
DTSTAMP:20260425T135511
CREATED:20260304T171126Z
LAST-MODIFIED:20260324T085259Z
UID:6650-1778544000-1779839999@www.vughtseijsclub.nl
SUMMARY:Start-to-Skate mei 2026
DESCRIPTION:Leer skeeleren met de Vughtse IJsclub\n3 dinsdagavonden: 12\, 19 en 26 mei 2026.\nLET OP: als vanwege regen of een te nat wegdek een avond niet doorgaat\, schuift alles een week op. \nStart-to-Skate is een landelijk evenement om kinderen vanaf 6 jaar enthousiast te maken voor het skeeleren. De VIJC verzorgt 3 avonden van 18.30 tot 19.30 uur trainingen in Vught.\nLet op: de locatie is veranderd. We gebruiken nu het asfalt voor het pand van Kentalis Talent\, Helvoirtseweg 189. \nJe oefent onder begeleiding van ervaren trainers de slag\, verschillende remtechnieken en balans. De trainers en vrijwilligers van de VIJC zorgen ervoor dat het drie hele leuke avonden worden.\nHet dragen van een helm is verplicht\, eventueel na overleg te lenen van de VIJC. Knie- pols- en elleboogbeschermers zijn sterk aan te raden.\nKosten: € 21\,- \nBasisschool leerlingen schrijven zich in via Sjors Sportief:\n‘s-Hertogenbosch: website Sjors Sportief ‘s-Hertogenbosch\nVught: website Sjors Sportief – Vught.\nSint-Michielsgestel: website Sjors Sportief St. Michielsgestel. \nWilt u als volwassene ook deelnemen? Dat kan; stuur dan een email naar het secretariaat VIJC\, e-mailadres: secretaris@vijc.nl.\n 
URL:https://www.vughtseijsclub.nl/evenement/start-to-skate-mei-2026/
LOCATION:Vught Start-to-Skate\, Helvoirtseweg 189\, Vught\, 5263EE
CATEGORIES:Club,Jeugd,Skeeler,Training
END:VEVENT
BEGIN:VEVENT
DTSTART;VALUE=DATE:20260926
DTEND;VALUE=DATE:20260927
DTSTAMP:20260425T135511
CREATED:20260407T140346Z
LAST-MODIFIED:20260407T205439Z
UID:14490-1790380800-1790467199@www.vughtseijsclub.nl
SUMMARY:Wielerploegen-tijdrit 2026
DESCRIPTION:Wielerploegentijdrit 2026\nDe Wielerploegentijdrit-commissie gaat dit jaar de 28e editie van de VIJC Wielerploegentijdrit organiseren die op 26-09-2026 zal plaatsvinden op het bekende parcours op de Boxtelseweg langs de A2.\nMocht jij of je ploeg interesse hebben om deel te nemen of je aan willen melden als vrijwilliger stuur dan een email naar tijdrit@live.com.\n 
URL:https://www.vughtseijsclub.nl/evenement/wielerploegen-tijdrit/
LOCATION:Vught – Boxtelseweg bij Voorburg\, Boxtelse weg\, Vught\, Nederland
CATEGORIES:Club,Jeugd,Kampioenschap,Wielrennen
END:VEVENT
END:VCALENDAR